BEGIN:VCALENDAR
VERSION:2.0
PRODID:-//ChamberMaster//Event Calendar 2.0//EN
METHOD:PUBLISH
X-PUBLISHED-TTL:P3D
REFRESH-INTERVAL:P3D
CALSCALE:GREGORIAN
BEGIN:VEVENT
DTSTART:20260730T220000Z
DTEND:20260731T000000Z
X-MICROSOFT-CDO-ALLDAYEVENT:FALSE
SUMMARY:20 Years Under the Sign Seas - Signarama Brighton Openhouse 2026
DESCRIPTION:Signarama Brighton Joint Chamber Networking Open House \n\n\n\nDive deep and join us as we celebrate 20 years of Signarama Brighton with an unforgettable underwater-themed evening! Mark your calendars for Thursday\, July 30th from 4:00 PM to 6:00 PM and get ready to explore 20 Years Under the Sign Seas. ???? \n\n\n\nThis year's open house transforms our shop into an immersive undersea experience perfect for connecting\, celebrating\, and making waves in the business community. \n\n\n\nWhat to Expect: \n\n\n\nMake a Splash with Bites & Beverages \n\nEnjoy delicious hors d'oeuvres and refreshing drinks while you mingle beneath the "sea." \n\n\n\nReel in Some Treasures \n\nEnter to win exciting giveaways and prizes throughout the event. \n\n\n\nPicture-Perfect Moments \n\nStrike a pose with creative\, ocean-inspired photo backdrops and props perfect for sharing and remembering the night. \n\n\n\nNetwork Beneath the Surface \n\nConnect with fellow chamber members\, local business professionals\, and the Signarama Brighton team in a fun\, relaxed atmosphere. \n\n\n\nDiscover the Depth of Signage Possibilities \n\nExplore how Signarama Brighton has been helping businesses stand out for 20 years and what's ahead on the horizon. \n\n\n\nWhether you're a chamber member\, local business owner\, or community supporter\, we invite you to dive in and celebrate with us! \n\n\n\nEvent Details: \n\n\n\nDate: Thursday\, July 30th \n\nTime: 4:00 PM   6:00 PM \n\nLocation: Signarama Brighton \n\n1289 S. 4th Ave Unit 200 \n\nBrighton\, CO 80601 \n\n\n\nParticipating Chambers: \n\nBrighton Chamber of Commerce \n\nCarbon Valley Chamber of Commerce\n\nCommerce City Chamber of Commerce \n\nFort Lupton Chamber of Commerce \n\n\n\nWe can't wait to celebrate 20 incredible years with you it's going to be o-fish-ally amazing!
X-ALT-DESC;FMTTYPE=text/html:<div>\n<p><strong>Signarama Brighton Joint Chamber Networking Open House</strong>&nbsp\;</p>\n</div>\n\n<div>\n<p>Dive deep and join us as we celebrate&nbsp\;<strong>20 years of Signarama Brighton</strong>&nbsp\;with an unforgettable underwater-themed evening! Mark your calendars for&nbsp\;<strong>Thursday\, July 30th from 4:00 PM to 6:00 PM</strong>&nbsp\;and get ready to explore&nbsp\;<em>20 Years Under the Sign Seas.</em>&nbsp\;????&nbsp\;</p>\n</div>\n\n<div>\n<p>This year&rsquo\;s open house transforms our shop into an immersive undersea experience&mdash\;perfect for connecting\, celebrating\, and making waves in the business community.&nbsp\;</p>\n</div>\n\n<div>\n<p><strong>What to Expect:</strong>&nbsp\;</p>\n</div>\n\n<div>\n<p><strong>Make a Splash with Bites &amp\; Beverages</strong>&nbsp\;<br />\nEnjoy delicious hors d&#39\;oeuvres and refreshing drinks while you mingle beneath the &ldquo\;sea.&rdquo\;&nbsp\;</p>\n</div>\n\n<div>\n<p><strong>Reel in Some Treasures</strong>&nbsp\;<br />\nEnter to win exciting giveaways and prizes throughout the event.&nbsp\;</p>\n</div>\n\n<div>\n<p><strong>Picture-Perfect Moments</strong>&nbsp\;<br />\nStrike a pose with creative\, ocean-inspired photo backdrops and props&mdash\;perfect for sharing and remembering the night.&nbsp\;</p>\n</div>\n\n<div>\n<p><strong>Network Beneath the Surface</strong>&nbsp\;<br />\nConnect with fellow chamber members\, local business professionals\, and the Signarama Brighton team in a fun\, relaxed atmosphere.&nbsp\;</p>\n</div>\n\n<div>\n<p><strong>Discover the Depth of Signage Possibilities</strong>&nbsp\;<br />\nExplore how Signarama Brighton has been helping businesses stand out for 20 years&mdash\;and&nbsp\;what&rsquo\;s&nbsp\;ahead on the horizon.&nbsp\;</p>\n</div>\n\n<div>\n<p>Whether&nbsp\;you&#39\;re&nbsp\;a chamber member\, local business owner\, or community supporter\, we invite you to&nbsp\;<strong>dive in and celebrate with us!</strong>&nbsp\;</p>\n</div>\n\n<div>\n<p><strong>Event Details:</strong>&nbsp\;</p>\n</div>\n\n<div>\n<p><strong>Date:</strong>&nbsp\;Thursday\, July 30th&nbsp\;<br />\n<strong>Time:</strong>&nbsp\;4:00 PM &ndash\; 6:00 PM&nbsp\;<br />\n<strong>Location:</strong>&nbsp\;Signarama Brighton&nbsp\;<br />\n1289 S. 4th Ave Unit 200&nbsp\;<br />\nBrighton\, CO 80601&nbsp\;</p>\n</div>\n\n<div>\n<p><strong>Participating Chambers:</strong>&nbsp\;<br />\nBrighton Chamber of Commerce&nbsp\;</p>\n\n<p><span style="font-size:11pt">Carbon Valley Chamber of Commerce</span></p>\n\n<p>Commerce&nbsp\;City Chamber of Commerce&nbsp\;</p>\n\n<p>Fort Lupton Chamber of Commerce&nbsp\;</p>\n</div>\n\n<div>\n<p>We&nbsp\;can&rsquo\;t&nbsp\;wait to celebrate 20 incredible years with you&mdash\;<strong>it&rsquo\;s&nbsp\;going to be o-fish-ally amazing!</strong></p>\n</div>\n
LOCATION:Signarama Brighton 1289 S. 4th Ave unit 200\, Brighton\, CO 80601
UID:e.2915.2376
SEQUENCE:3
DTSTAMP:20260424T014558Z
URL:http://4cchamber.com/events/details/20-years-under-the-sign-seas-signarama-brighton-openhouse-2026-2376
END:VEVENT

END:VCALENDAR
