BEGIN:VCALENDAR
VERSION:2.0
PRODID:-//ChamberMaster//Event Calendar 2.0//EN
METHOD:PUBLISH
X-PUBLISHED-TTL:P3D
REFRESH-INTERVAL:P3D
CALSCALE:GREGORIAN
BEGIN:VEVENT
DTSTART:20230803T220000Z
DTEND:20230804T000000Z
X-MICROSOFT-CDO-ALLDAYEVENT:FALSE
SUMMARY:Adams County Boots & Business
DESCRIPTION:Come join us at the Adams County Fair on Thursday\, Aug. 3 from 4-6 p.m. Join us for food\, drinks and networking with fellow Adams County businesses\, community partners and county leadership\, including County Manager Noel Bernal. After the reception stay and enjoy the Thursday evening festivities at the fair\, including the Jordan Davis concert. Please RSVP to our host the Adams County Community & Economic Development Department here Free parking is available on site. Adams County will email parking vouchers to registered attendees closer to the event date. Hope to see you there!
X-ALT-DESC;FMTTYPE=text/html:<span style="color: rgb(17\, 17\, 17)\; font-family: Arial\, Verdana\, Helvetica\, sans-serif\; white-space-collapse: preserve\; background-color: rgb(255\, 255\, 255)\; font-size: 18px\;">Come join us at the Adams County Fair on Thursday\, Aug. 3 from 4-6 p.m. Join us for food\, drinks and networking with fellow Adams County businesses\, community partners and county leadership\, including County Manager Noel Bernal. After the reception stay and enjoy the Thursday evening festivities at the fair\, including the Jordan Davis concert. </span><a data-link-type="web" href="https://www.eventbrite.com/e/boots-and-business-an-adams-county-business-appreciation-event-tickets-668485246367?aff=oddtdtcreator" style="color: rgb(219\, 66\, 10)\; font-family: Arial\, Verdana\, Helvetica\, sans-serif\; white-space-collapse: preserve\; background-color: rgb(255\, 255\, 255)\; font-size: 18px\;" target="_blank">Please RSVP to our host the Adams County Community &amp\; Economic Development Department here</a><span style="color: rgb(17\, 17\, 17)\; font-family: Arial\, Verdana\, Helvetica\, sans-serif\; white-space-collapse: preserve\; background-color: rgb(255\, 255\, 255)\; font-size: 18px\;"> </span><span style="font-family: Arial\, Verdana\, Helvetica\, sans-serif\; white-space-collapse: preserve\; background-color: rgb(255\, 255\, 255)\; font-size: 18px\;">Free parking is available on site. Adams County will email parking vouchers to registered attendees closer to the event date. Hope to see you there!</span>
LOCATION:Adams County Fairgrounds @ Riverdale Regional Park 9755 Henderson Rd. Brighton\, CO
UID:e.2915.1967
SEQUENCE:3
DTSTAMP:20260421T142050Z
URL:https://4cchamber.com/events/details/adams-county-boots-business-1967
END:VEVENT

END:VCALENDAR
