BEGIN:VCALENDAR
VERSION:2.0
PRODID:-//ChamberMaster//Event Calendar 2.0//EN
METHOD:PUBLISH
X-PUBLISHED-TTL:P3D
REFRESH-INTERVAL:P3D
CALSCALE:GREGORIAN
BEGIN:VEVENT
DTSTART:20231010T140000Z
DTEND:20231010T140000Z
X-MICROSOFT-CDO-ALLDAYEVENT:FALSE
SUMMARY:Almost Home Annual Thanksgiving Food Collection Drive
DESCRIPTION:Almost Home is collecting donations for our Annual Thanksgiving Meal Basket Program. We are collaborating with the Knights of Columbus & St. Augustine's Food Pantry to provide 400 meal baskets to families in need this holiday season.\n\nThis is truly a community-wide service as we simply could not do this without the generous help of our caring and thoughtful community members.
X-ALT-DESC;FMTTYPE=text/html:<p><span style="font-family:georgia\,serif\; font-size:18px">Almost Home is collecting donations for our Annual Thanksgiving Meal Basket Program. We are collaborating with the Knights of Columbus &amp\; St. Augustine&rsquo\;s Food Pantry to provide 400 meal baskets to families in need this holiday season.</span></p>\n\n<p><span style="font-size:18px"><span style="font-family:georgia\,serif">This is truly a community-wide service as we simply could not do this without the generous help of our caring and thoughtful community members.</span></span></p>\n
LOCATION:Food collection drop-off will be at the Columbian Home Event Center\, 1096 E Bridge St.\, Brighton\, CO 80601
UID:e.2915.1998
SEQUENCE:3
DTSTAMP:20260421T171053Z
URL:https://4cchamber.com/events/details/almost-home-annual-thanksgiving-meal-basket-program-1998
END:VEVENT

END:VCALENDAR
