BEGIN:VCALENDAR
VERSION:2.0
PRODID:-//ChamberMaster//Event Calendar 2.0//EN
METHOD:PUBLISH
X-PUBLISHED-TTL:P3D
REFRESH-INTERVAL:P3D
CALSCALE:GREGORIAN
BEGIN:VEVENT
DTSTART:20231005T233000Z
DTEND:20231006T010000Z
X-MICROSOFT-CDO-ALLDAYEVENT:FALSE
SUMMARY:Chamber After Hours @ Dottie Bakke House Preservation Project
DESCRIPTION:Come enjoy a fun evening of networking\, food and drinks while taking a tour of the oldest home in Commerce City. We will also be welcoming our newest members to the Chamber.
X-ALT-DESC;FMTTYPE=text/html:Come enjoy a fun evening of networking\, food and drinks while taking a tour of the oldest home in Commerce City. We will also be welcoming our newest members to the Chamber.
LOCATION:Dottie Bakke House Preservation Project 6140 Holly St.
UID:e.2915.1982
SEQUENCE:3
DTSTAMP:20260421T172459Z
URL:https://4cchamber.com/events/details/chamber-after-hours-dottie-bakke-house-preservation-project-1982
END:VEVENT

END:VCALENDAR
