BEGIN:VCALENDAR
VERSION:2.0
PRODID:-//ChamberMaster//Event Calendar 2.0//EN
METHOD:PUBLISH
X-PUBLISHED-TTL:P3D
REFRESH-INTERVAL:P3D
CALSCALE:GREGORIAN
BEGIN:VEVENT
DTSTART:20230907T233000Z
DTEND:20230908T010000Z
X-MICROSOFT-CDO-ALLDAYEVENT:FALSE
SUMMARY:Chamber After Hours @ VOA Colorado
DESCRIPTION:Come enjoy a fun evening of networking\, food and drinks.
X-ALT-DESC;FMTTYPE=text/html:Come enjoy a fun evening of networking\, food and drinks.
LOCATION:VOA of Colorado Aging & Nutrition Services Center 4915 E. 52nd Ave.
UID:e.2915.1977
SEQUENCE:3
DTSTAMP:20260421T143823Z
URL:https://4cchamber.com/events/details/chamber-after-hours-voa-colorado-1977
END:VEVENT

END:VCALENDAR
