BEGIN:VCALENDAR
VERSION:2.0
PRODID:-//ChamberMaster//Event Calendar 2.0//EN
METHOD:PUBLISH
X-PUBLISHED-TTL:P3D
REFRESH-INTERVAL:P3D
CALSCALE:GREGORIAN
BEGIN:VEVENT
DTSTART:20230930T000000Z
DTEND:20230930T030000Z
X-MICROSOFT-CDO-ALLDAYEVENT:FALSE
SUMMARY:City Council Candidate Forum 2023
DESCRIPTION:Come meet the candidates for city council and mayor during this Candidate Meet & Greet event hosted by the Commerce City Chamber of Commerce.
X-ALT-DESC;FMTTYPE=text/html:Come meet the candidates for city council and mayor during this Candidate Meet &amp\; Greet event hosted by the Commerce City Chamber of Commerce.
LOCATION:Fire Station #8 10326 Walden St
UID:e.2915.1976
SEQUENCE:3
DTSTAMP:20260421T143819Z
URL:https://4cchamber.com/events/details/city-council-candidate-forum-2023-1976
END:VEVENT

END:VCALENDAR
