BEGIN:VCALENDAR
VERSION:2.0
PRODID:-//ChamberMaster//Event Calendar 2.0//EN
METHOD:PUBLISH
X-PUBLISHED-TTL:P3D
REFRESH-INTERVAL:P3D
CALSCALE:GREGORIAN
BEGIN:VEVENT
DTSTART:20230913T133000Z
DTEND:20230913T143000Z
X-MICROSOFT-CDO-ALLDAYEVENT:FALSE
SUMMARY:Coffee With The Chamber @ Mama's Cafe
DESCRIPTION:Come join Commerce City Chamber Executive Director Rene' Bullock for a chat over coffee. This new Chamber event will be monthly on the second Wednesday of each month. We will be touring the different coffee places in our city so look out for what location we will be at.
X-ALT-DESC;FMTTYPE=text/html:Come join Commerce City Chamber Executive Director Rene&#39\; Bullock for a chat over coffee. This new Chamber event will be monthly on the second Wednesday of each month. We will be touring the different coffee places in our city so look out for what location we will be at.
LOCATION:Mama's Cafe 6025 Parkway Dr Ste 160
UID:e.2915.1972
SEQUENCE:3
DTSTAMP:20260421T143936Z
URL:https://4cchamber.com/events/details/coffee-with-the-chamber-mama-s-cafe-1972
END:VEVENT

END:VCALENDAR
