BEGIN:VCALENDAR
VERSION:2.0
PRODID:-//ChamberMaster//Event Calendar 2.0//EN
METHOD:PUBLISH
X-PUBLISHED-TTL:P3D
REFRESH-INTERVAL:P3D
CALSCALE:GREGORIAN
BEGIN:VEVENT
DTSTART:20230622T174500Z
DTEND:20230622T190000Z
X-MICROSOFT-CDO-ALLDAYEVENT:FALSE
SUMMARY:Commerce City Chamber Leads Group @ Fronterra Park
DESCRIPTION:Come and network with fellow Chamber members\, share your latest information about your business as you find out what is happening with other local businesses\, all while enjoying lunch (on your own). We will also have a presentation by the Commerce City Park Rangers program giving us some insight on this new program offered throughout the city.
X-ALT-DESC;FMTTYPE=text/html:<span style="color: rgb(51\, 51\, 51)\; font-family: sans-serif\, Arial\, Verdana\, &quot\;Trebuchet MS&quot\;\; font-size: 13px\; background-color: rgb(255\, 255\, 255)\;">Come and network with fellow Chamber members\, share your latest information about your business as you find out what is happening with other local businesses\, all while enjoying lunch (on your own). We will also have a presentation by the Commerce City Park Rangers program giving us some insight on this new program offered throughout the city.</span>
LOCATION:Fronterra Park 10020 Joplin St.
UID:e.2915.1955
SEQUENCE:3
DTSTAMP:20260421T095205Z
URL:https://4cchamber.com/events/details/commerce-city-chamber-leads-group-fronterra-park-1955
END:VEVENT

END:VCALENDAR
