BEGIN:VCALENDAR
VERSION:2.0
PRODID:-//ChamberMaster//Event Calendar 2.0//EN
METHOD:PUBLISH
X-PUBLISHED-TTL:P3D
REFRESH-INTERVAL:P3D
CALSCALE:GREGORIAN
BEGIN:VEVENT
DTSTART:20210312T003000Z
DTEND:20210312T013000Z
X-MICROSOFT-CDO-ALLDAYEVENT:FALSE
SUMMARY:Commerce City Chamber March 2021 Board Meeting
DESCRIPTION:The Board of Directors of the Commerce City Chamber meets the second Thursday of every month to discuss chamber matters.
X-ALT-DESC;FMTTYPE=text/html:The Board of Directors of the Commerce City Chamber meets the second Thursday of every month to discuss chamber matters.
LOCATION:Zoom
UID:e.2915.1655
SEQUENCE:3
DTSTAMP:20260421T112542Z
URL:https://4cchamber.com/events/details/commerce-city-chamber-march-2021-board-meeting-1655
END:VEVENT

END:VCALENDAR
