BEGIN:VCALENDAR
VERSION:2.0
PRODID:-//ChamberMaster//Event Calendar 2.0//EN
METHOD:PUBLISH
X-PUBLISHED-TTL:P3D
REFRESH-INTERVAL:P3D
CALSCALE:GREGORIAN
BEGIN:VEVENT
DTSTART:20240725T174500Z
DTEND:20240725T190000Z
X-MICROSOFT-CDO-ALLDAYEVENT:FALSE
SUMMARY:Commerce City Chamber Small Business Roundtable @ SACFD
DESCRIPTION:Join with other Commerce City small business owners to network\, share ideas\, best practices and resources. Lunch will be provided by our host sponsor\, South Adams County Fire Department.
X-ALT-DESC;FMTTYPE=text/html:<span style="font-family:arial\;"><span style="font-size:14px\;">Join with other Commerce City small business owners to network\,&nbsp\;<span style="color: rgb(5\, 5\, 5)\; background-color: rgb(255\, 255\, 255)\;">share ideas\, best practices and resources. Lunch will be provided by our host sponsor\, South Adams County Fire Department.</span></span></span>
LOCATION:South Adams County Fire Department Headquarters 6050 Syracuse St.
UID:e.2915.1940
SEQUENCE:3
DTSTAMP:20260422T065609Z
URL:https://4cchamber.com/events/details/commerce-city-chamber-small-business-roundtable-sacfd-1940
END:VEVENT

END:VCALENDAR
