BEGIN:VCALENDAR
VERSION:2.0
PRODID:-//ChamberMaster//Event Calendar 2.0//EN
METHOD:PUBLISH
X-PUBLISHED-TTL:P3D
REFRESH-INTERVAL:P3D
CALSCALE:GREGORIAN
BEGIN:VEVENT
DTSTART;VALUE=DATE:20230929
DTEND;VALUE=DATE:20230930
TRANSP:TRANSPARENT
X-MICROSOFT-CDO-ALLDAYEVENT:TRUE
SUMMARY:Concert for a Cause
DESCRIPTION:Dig out your 90's outfit and join us for the upcoming Concert for a Cause to benefit Almost Home and the households we serve experiencing housing instability.\n\n \n\nThe benefit concert is on Friday\, September 29 at the Armory Performing Arts Center.\n\nDoors open at 6:30pm\, band starts at 7:00pm.  \n\n \n\nIncluded with your ticket purchase:\n\n	Live music by TRL - Playin Pop & Hip Hop of the 90s - 2010s\n	FREE pizza from our generous friends at Simply Pizza Truck\n	One FREE bottle of beer or glass of wine\n	Bucket raffle with an opportunity to win awesome prizes!\n	Costume contest with prizes for 1st\, 2nd and 3rd place!\n\n \n\nWe look forward to getting jiggy with you as we bust a move to help raise money to prevent and confront homelessness in our community.
X-ALT-DESC;FMTTYPE=text/html:<span style="font-size:12px"><span style="font-family:verdana"><span style="color:#050505">Dig out your 90&#39\;s outfit and join us for the upcoming Concert for a Cause to benefit Almost Home and the households we serve experiencing housing instability.</span><br />\n&nbsp\;<br />\n<span style="color:#050505">The benefit concert is on Friday\, September 29 at the <a href="https://www.facebook.com/ArmoryPerformingArts"><span style="color:blue">Armory Performing Arts Center</span></a>.</span><br />\n<span style="color:#050505">Doors open at 6:30pm\, band starts at 7:00pm.&nbsp\; </span><br />\n&nbsp\;<br />\n<span style="color:#050505">Included with your ticket purchase:</span></span></span>\n<ul>\n	<li><span style="font-size:12px"><span style="font-family:verdana"><span style="color:#050505">Live music by <a href="https://www.facebook.com/TRLtribute?__cft__%5b0%5d=AZX0N7uOt-dglY4FoGx-4znuhB_XrsAbr9quz0AfXOl8sXhFBZcldBJsHu_-K9wczsz186K4aLpPMHk87i70ngi8GqvI9mo_zRYrkz8lZ1WSREdNBnORa8oAGfXE3oIDMdrIt-by0xLqMmQ5gOp-ZojgS9jPecjP5qRKReHcab7QC3n2Kk4dK743w9U2zG0BTbHZOGsWBMl1kb0cc-6D_uZU&amp\;__tn__=-%5dK-R"><span style="color:blue">TRL - Playin Pop &amp\; Hip Hop of the 90s - 2010s</span></a></span></span></span></li>\n	<li><span style="font-size:12px"><span style="font-family:verdana"><span style="color:#050505">FREE pizza from our generous friends at <a href="https://www.facebook.com/simplypizzatruck?__cft__%5b0%5d=AZX0N7uOt-dglY4FoGx-4znuhB_XrsAbr9quz0AfXOl8sXhFBZcldBJsHu_-K9wczsz186K4aLpPMHk87i70ngi8GqvI9mo_zRYrkz8lZ1WSREdNBnORa8oAGfXE3oIDMdrIt-by0xLqMmQ5gOp-ZojgS9jPecjP5qRKReHcab7QC3n2Kk4dK743w9U2zG0BTbHZOGsWBMl1kb0cc-6D_uZU&amp\;__tn__=-%5dK-R"><span style="color:blue">Simply Pizza Truck</span></a></span></span></span></li>\n	<li><span style="font-size:12px"><span style="font-family:verdana"><span style="color:#050505">One FREE bottle of beer or glass of wine</span></span></span></li>\n	<li><span style="font-size:12px"><span style="font-family:verdana"><span style="color:#050505">Bucket raffle with an opportunity to win awesome prizes!</span></span></span></li>\n	<li><span style="font-size:12px"><span style="font-family:verdana"><span style="color:#050505">Costume contest with prizes for 1st\, 2nd and 3rd place!</span></span></span></li>\n</ul>\n<span style="font-size:12px"><span style="font-family:verdana">&nbsp\;<br />\n<span style="color:#050505">We look forward to getting jiggy with you as we bust a move to help raise money to prevent and confront homelessness in our community.</span></span></span>
LOCATION:Armory Performing Arts Center 300 Strong St. Brighton\, CO 80601
UID:e.2915.1978
SEQUENCE:3
DTSTAMP:20260421T153857Z
URL:https://4cchamber.com/events/details/concert-for-a-cause-1978
END:VEVENT

END:VCALENDAR
