BEGIN:VCALENDAR
VERSION:2.0
PRODID:-//ChamberMaster//Event Calendar 2.0//EN
METHOD:PUBLISH
X-PUBLISHED-TTL:P3D
REFRESH-INTERVAL:P3D
CALSCALE:GREGORIAN
BEGIN:VEVENT
DTSTART:20230824T173000Z
DTEND:20230824T183000Z
X-MICROSOFT-CDO-ALLDAYEVENT:FALSE
SUMMARY:iGo Realty Groundbreaking
DESCRIPTION:Come join us as we celebrate a milestone for Chamber member iGo Realty. We will be breaking ground on iGo Realty's new building at 10250 Idalia St. on Thursday\, August 24 at 11:30 a.m. Refreshments will be served so you must register by Tuesday\, August 22. Come support your fellow Chamber member and network with city and community leaders. Register today at 4cchamber.com/events or call 720-864-1786!
X-ALT-DESC;FMTTYPE=text/html:<span style="font-family: Arial\, Verdana\, Helvetica\, sans-serif\; font-size: 18px\; background-color: rgb(255\, 255\, 255)\;">Come join us as we celebrate a milestone for Chamber member iGo Realty. We will be breaking ground on iGo Realty&#39\;s new building at 10250 Idalia St. on Thursday\, August 24 at 11:30 a.m. Refreshments will be served so you must register by Tuesday\, August 22. Come support your fellow Chamber member and network with city and community leaders. Register today at&nbsp\;</span><a data-saferedirecturl="https://www.google.com/url?q=http://4cchamber.com/events&amp\;source=gmail&amp\;ust=1691771388486000&amp\;usg=AOvVaw3qbMnSmZtQv_DGqDCyHevd" href="http://4cchamber.com/events" style="color: rgb(17\, 85\, 204)\; font-family: Arial\, Verdana\, Helvetica\, sans-serif\; font-size: 18px\; background-color: rgb(255\, 255\, 255)\;" target="_blank">4cchamber.com/events</a><span style="font-family: Arial\, Verdana\, Helvetica\, sans-serif\; font-size: 18px\; background-color: rgb(255\, 255\, 255)\;">&nbsp\;or call 720-864-1786!</span>
LOCATION:10250 Idalia St. Corner of 104th and Idalia St. south of Pets R Us
UID:e.2915.1970
SEQUENCE:3
DTSTAMP:20260421T141640Z
URL:https://4cchamber.com/events/details/igo-realty-groundbreaking-1970
END:VEVENT

END:VCALENDAR
