BEGIN:VCALENDAR
VERSION:2.0
PRODID:-//ChamberMaster//Event Calendar 2.0//EN
METHOD:PUBLISH
X-PUBLISHED-TTL:P3D
REFRESH-INTERVAL:P3D
CALSCALE:GREGORIAN
BEGIN:VEVENT
DTSTART:20240718T220000Z
DTEND:20240719T000000Z
X-MICROSOFT-CDO-ALLDAYEVENT:FALSE
SUMMARY:Let the Games Begin! - Signarama Brighton Joint Chamber Networking Event 2024
DESCRIPTION:Prepare for medal mania on Thursday\, July 18th\, at Signarama Brighton\, as we host an Olympic-themed joint chamber networking event. Join us for an unforgettable evening packed with exciting games\, fabulous prizes\, delectable hors d'oeuvres\, refreshing beverages\, and countless photo opportunities on the winner's podium. Whether you're a chamber member or not\, everyone is welcome to participate and have a shot at becoming a Signarama Champion. Mark your calendars - we can't wait to celebrate with you! \n\n\n\nParticipating Chambers: Brighton Chamber of Commerce\, Carbon Valley Chamber of Commerce\, Commerce City Chamber of Commerce\, and Fort Lupton Chamber of Commerce.
X-ALT-DESC;FMTTYPE=text/html:<br />\n<span style="color:rgb(0\, 0\, 0)\; font-family:calibri\,calibri_embeddedfont\,calibri_msfontservice\,sans-serif\,serif\,emojifont\; font-size:14.6667px">Prepare for medal mania on Thursday\, July 18th\, at Signarama Brighton\, as we host an Olympic-themed joint chamber networking event. Join us for an unforgettable evening packed with exciting games\, fabulous prizes\, delectable hors d&rsquo\;oeuvres\, refreshing beverages\, and countless photo opportunities on the winner&#39\;s podium.</span><strong>&nbsp\;Whether you&#39\;re a chamber member or not\, everyone is welcome to participate and have a shot at becoming a Signarama Champion.</strong><span style="color:rgb(0\, 0\, 0)\; font-family:calibri\,calibri_embeddedfont\,calibri_msfontservice\,sans-serif\,serif\,emojifont\; font-size:14.6667px">&nbsp\;Mark your calendars - we can&#39\;t wait to celebrate with you!&nbsp\;<br />\n<br />\nParticipating Chambers: Brighton Chamber of Commerce\, Carbon Valley Chamber of Commerce\, Commerce City Chamber of Commerce\, and Fort Lupton Chamber of Commerce.&nbsp\;</span>
LOCATION:Signarama Brighton: 1289 S. 4th Ave Unit 200 Brighton\, CO 80601
UID:e.2915.2240
SEQUENCE:3
DTSTAMP:20260422T065800Z
URL:https://4cchamber.com/events/details/let-the-games-begin-signarama-brighton-joint-chamber-networking-event-2024-2240
END:VEVENT

END:VCALENDAR
