BEGIN:VCALENDAR
VERSION:2.0
PRODID:-//ChamberMaster//Event Calendar 2.0//EN
METHOD:PUBLISH
X-PUBLISHED-TTL:P3D
REFRESH-INTERVAL:P3D
CALSCALE:GREGORIAN
BEGIN:VEVENT
DTSTART:20240912T174500Z
DTEND:20240912T190000Z
X-MICROSOFT-CDO-ALLDAYEVENT:FALSE
SUMMARY:Lunch & Leads @ Greyhound Grounds Coffee House
DESCRIPTION:Join us at lunchtime to network and get possible leads for your business during our monthly Lunch & Leads. We go to area restaurants to show our support of local businesses while networking and garnering possible leads while enjoying the tasty treats of the restaurant. Lunch is on your own.
X-ALT-DESC;FMTTYPE=text/html:Join us at lunchtime to network and get possible leads for your business during our monthly Lunch &amp\; Leads. We go to area restaurants to show our support of local businesses while networking and garnering possible leads while enjoying the tasty treats of the restaurant. Lunch is on your own.
LOCATION:Greyhound Grounds Coffee House 6230 Glencoe St
UID:e.2915.2270
SEQUENCE:3
DTSTAMP:20260422T142722Z
URL:https://4cchamber.com/events/details/lunch-leads-greyhound-grounds-coffee-house-2270
END:VEVENT

END:VCALENDAR
