BEGIN:VCALENDAR
VERSION:2.0
PRODID:-//ChamberMaster//Event Calendar 2.0//EN
METHOD:PUBLISH
X-PUBLISHED-TTL:P3D
REFRESH-INTERVAL:P3D
CALSCALE:GREGORIAN
BEGIN:VEVENT
DTSTART:20230815T130000Z
DTEND:20230815T143000Z
X-MICROSOFT-CDO-ALLDAYEVENT:FALSE
SUMMARY:Service Spotlight Breakfast-Stout Street Foundation
DESCRIPTION:Come join us for breakfast as we spotlight the service of the Stout Street Foundation in our community. We will be meeting at Stout Street\, on Tuesday\, August 15\, 2023 from 7-8:30 a.m. Breakfast will be served. Registration is required. Cost is $15 for Chamber members\, $20 for non-members. Register at 4cchamber.com/events to reserve your spot today!
X-ALT-DESC;FMTTYPE=text/html:<span style="color: rgb(17\, 17\, 17)\; font-family: Arial\, Verdana\, Helvetica\, sans-serif\; font-size: 18px\; white-space-collapse: preserve\;">Come join us for breakfast as we spotlight the service of the Stout Street Foundation in our community. We will be meeting at Stout Street\, on Tuesday\, August 15\, 2023 from 7-8:30 a.m. Breakfast will be served. Registration is required. Cost is $15 for Chamber members\, $20 for non-members. Register at 4cchamber.com/events to reserve your spot today!</span>
LOCATION:Stout Street Foundation 7251 E. 49th Ave.
UID:e.2915.1966
SEQUENCE:3
DTSTAMP:20260421T125632Z
URL:https://4cchamber.com/events/details/service-spotlight-breakfast-stout-street-foundation-1966
END:VEVENT

END:VCALENDAR
