BEGIN:VCALENDAR
VERSION:2.0
PRODID:-//ChamberMaster//Event Calendar 2.0//EN
METHOD:PUBLISH
X-PUBLISHED-TTL:P3D
REFRESH-INTERVAL:P3D
CALSCALE:GREGORIAN
BEGIN:VEVENT
DTSTART:20230901T183000Z
DTEND:20230901T193000Z
X-MICROSOFT-CDO-ALLDAYEVENT:FALSE
SUMMARY:Ziggi's Coffee Ribbon Cutting
DESCRIPTION:Come join us as we celebrate the Ribbon Cutting for the newest Ziggi's Coffee. Refreshments and networking opportunities will be available after the ceremony.
X-ALT-DESC;FMTTYPE=text/html:Come join us as we celebrate the Ribbon Cutting for the newest Ziggi&#39\;s Coffee. Refreshments and networking opportunities will be available after the ceremony.
LOCATION:Ziggi's Coffee 7315 E. 128th Ave. Thornton\, CO 80602
UID:e.2915.1971
SEQUENCE:3
DTSTAMP:20260421T154354Z
URL:https://4cchamber.com/events/details/ziggi-s-coffee-ribbon-cutting-1971
END:VEVENT

END:VCALENDAR
